BEGIN:VCALENDAR
VERSION:2.0
PRODID:-//https://calenda-formation.labocleo.org
X-WR-CALNAME:Calenda
X-WR-TIMEZONE:Europe/Paris
CALSCALE:GREGORIAN
X-WR-CALDESC:The calendar for arts, humanities and social sciences
METHOD:PUBLISH
BEGIN:VEVENT
DTSTART;VALUE=DATE:20120525
DTEND;VALUE=DATE:20120526
UID:208377-20120525@calenda.revues.org
SUMMARY:English Republicanism in eighteenth-century France and during the French Revolution
URL:https://calenda-formation.labocleo.org/208377
DESCRIPTION:Le Centre d’histoire des idées et des institutions politiques (EA 2186\, Université d’Aix-Marseille) et l’Institut d’histoire de la Révolution française (UMS CNRS\, Université de Paris I) organisent les 25 et 26 mai 2012 à Aix-en-Provence deux journées… @plus_info https://calenda-formation.labocleo.org/208377
LOCATION:Aix-en-Provence
END:VEVENT
BEGIN:VEVENT
DTSTART;VALUE=DATE:20120526
DTEND;VALUE=DATE:20120527
UID:208377-20120526@calenda.revues.org
SUMMARY:English Republicanism in eighteenth-century France and during the French Revolution
URL:https://calenda-formation.labocleo.org/208377
DESCRIPTION:Le Centre d’histoire des idées et des institutions politiques (EA 2186\, Université d’Aix-Marseille) et l’Institut d’histoire de la Révolution française (UMS CNRS\, Université de Paris I) organisent les 25 et 26 mai 2012 à Aix-en-Provence deux journées… @plus_info https://calenda-formation.labocleo.org/208377
LOCATION:Aix-en-Provence
END:VEVENT
END:VCALENDAR
