BEGIN:VCALENDAR
VERSION:2.0
PRODID:-//https://calenda-formation.labocleo.org
X-WR-CALNAME:Calenda
X-WR-TIMEZONE:Europe/Paris
CALSCALE:GREGORIAN
X-WR-CALDESC:Le calendrier des lettres et sciences humaines et sociales
METHOD:PUBLISH
BEGIN:VEVENT
DTSTART;VALUE=DATE:20120605
DTEND;VALUE=DATE:20120606
UID:208409-20120605@calenda.revues.org
SUMMARY:Devenir parent(s)
URL:https://calenda-formation.labocleo.org/208409
DESCRIPTION:Le CURAPP-ESS (UMR 7319)\, le CESSP (UMR 8209) et le CEPRISCA (EA 3911) organisent un colloque pluridisciplinaire international sur les conditions sociales et politiques dans lesquelles prend place\, pour les individus et les familles\, la naissance d’u… @plus_info https://calenda-formation.labocleo.org/208409
LOCATION:Amiens
END:VEVENT
BEGIN:VEVENT
DTSTART;VALUE=DATE:20120606
DTEND;VALUE=DATE:20120607
UID:208409-20120606@calenda.revues.org
SUMMARY:Devenir parent(s)
URL:https://calenda-formation.labocleo.org/208409
DESCRIPTION:Le CURAPP-ESS (UMR 7319)\, le CESSP (UMR 8209) et le CEPRISCA (EA 3911) organisent un colloque pluridisciplinaire international sur les conditions sociales et politiques dans lesquelles prend place\, pour les individus et les familles\, la naissance d’u… @plus_info https://calenda-formation.labocleo.org/208409
LOCATION:Amiens
END:VEVENT
END:VCALENDAR
