BEGIN:VCALENDAR
VERSION:2.0
PRODID:-//https://calenda-formation.labocleo.org
X-WR-CALNAME:Calenda
X-WR-TIMEZONE:Europe/Paris
CALSCALE:GREGORIAN
X-WR-CALDESC:O calendário de letras e de ciências sociais e humanas
METHOD:PUBLISH
BEGIN:VEVENT
DTSTART;VALUE=DATE:20120601
DTEND;VALUE=DATE:20120602
UID:208411-20120601@calenda.revues.org
SUMMARY:Offre de trois contrats doctoraux et quatre contrats postdoctoraux (Labex Resmed)
URL:https://calenda-formation.labocleo.org/208411
DESCRIPTION:Le Laboratoire d’excellence RESMED « Religions et sociétés dans le monde méditerranéen » du PRES Sorbonne Université lance un appel à candidatures pour trois contrats doctoraux de trois ans et quatre contrats postdoctoraux d’un an à partir de septemb… @plus_info https://calenda-formation.labocleo.org/208411
LOCATION:
END:VEVENT
END:VCALENDAR
