BEGIN:VCALENDAR
VERSION:2.0
PRODID:-//https://calenda-formation.labocleo.org
X-WR-CALNAME:Calenda
X-WR-TIMEZONE:Europe/Paris
CALSCALE:GREGORIAN
X-WR-CALDESC:The calendar for arts, humanities and social sciences
METHOD:PUBLISH
BEGIN:VEVENT
DTSTART;VALUE=DATE:20120426
DTEND;VALUE=DATE:20120427
UID:208413-20120426@calenda.revues.org
SUMMARY:Ciência política e políticas públicas
URL:https://calenda-formation.labocleo.org/208413
DESCRIPTION:Os objectivos deste ciclo de estudo de doutoramento são promover a formação avançada em políticas públicas através da investigação\, contribuindo para o avanço do conhecimento e para a formação de investigadores\, professores do ensino superior e profi… @plus_info https://calenda-formation.labocleo.org/208413
LOCATION:Lisbon
END:VEVENT
BEGIN:VEVENT
DTSTART;VALUE=DATE:20120504
DTEND;VALUE=DATE:20120505
UID:208413-20120504@calenda.revues.org
SUMMARY:Ciência política e políticas públicas
URL:https://calenda-formation.labocleo.org/208413
DESCRIPTION:Os objectivos deste ciclo de estudo de doutoramento são promover a formação avançada em políticas públicas através da investigação\, contribuindo para o avanço do conhecimento e para a formação de investigadores\, professores do ensino superior e profi… @plus_info https://calenda-formation.labocleo.org/208413
LOCATION:Lisbon
END:VEVENT
BEGIN:VEVENT
DTSTART;VALUE=DATE:20120516
DTEND;VALUE=DATE:20120517
UID:208413-20120516@calenda.revues.org
SUMMARY:Ciência política e políticas públicas
URL:https://calenda-formation.labocleo.org/208413
DESCRIPTION:Os objectivos deste ciclo de estudo de doutoramento são promover a formação avançada em políticas públicas através da investigação\, contribuindo para o avanço do conhecimento e para a formação de investigadores\, professores do ensino superior e profi… @plus_info https://calenda-formation.labocleo.org/208413
LOCATION:Lisbon
END:VEVENT
BEGIN:VEVENT
DTSTART;VALUE=DATE:20120518
DTEND;VALUE=DATE:20120519
UID:208413-20120518@calenda.revues.org
SUMMARY:Ciência política e políticas públicas
URL:https://calenda-formation.labocleo.org/208413
DESCRIPTION:Os objectivos deste ciclo de estudo de doutoramento são promover a formação avançada em políticas públicas através da investigação\, contribuindo para o avanço do conhecimento e para a formação de investigadores\, professores do ensino superior e profi… @plus_info https://calenda-formation.labocleo.org/208413
LOCATION:Lisbon
END:VEVENT
BEGIN:VEVENT
DTSTART;VALUE=DATE:20120522
DTEND;VALUE=DATE:20120523
UID:208413-20120522@calenda.revues.org
SUMMARY:Ciência política e políticas públicas
URL:https://calenda-formation.labocleo.org/208413
DESCRIPTION:Os objectivos deste ciclo de estudo de doutoramento são promover a formação avançada em políticas públicas através da investigação\, contribuindo para o avanço do conhecimento e para a formação de investigadores\, professores do ensino superior e profi… @plus_info https://calenda-formation.labocleo.org/208413
LOCATION:Lisbon
END:VEVENT
BEGIN:VEVENT
DTSTART;VALUE=DATE:20120525
DTEND;VALUE=DATE:20120526
UID:208413-20120525@calenda.revues.org
SUMMARY:Ciência política e políticas públicas
URL:https://calenda-formation.labocleo.org/208413
DESCRIPTION:Os objectivos deste ciclo de estudo de doutoramento são promover a formação avançada em políticas públicas através da investigação\, contribuindo para o avanço do conhecimento e para a formação de investigadores\, professores do ensino superior e profi… @plus_info https://calenda-formation.labocleo.org/208413
LOCATION:Lisbon
END:VEVENT
END:VCALENDAR
