BEGIN:VCALENDAR
VERSION:2.0
PRODID:-//https://calenda-formation.labocleo.org
X-WR-CALNAME:Calenda
X-WR-TIMEZONE:Europe/Paris
CALSCALE:GREGORIAN
X-WR-CALDESC:The calendar for arts, humanities and social sciences
METHOD:PUBLISH
BEGIN:VEVENT
DTSTART;VALUE=DATE:20120614
DTEND;VALUE=DATE:20120615
UID:208501-20120614@calenda.revues.org
SUMMARY:Protecting and promoting online works in a European framework
URL:https://calenda-formation.labocleo.org/208501
DESCRIPTION:L’accès à des contenus attractifs\, gratuits ou payants\, devient un enjeu majeur du développement de l’Internet\, qu’il s’agisse d’écrits\, d’images ou de contenus audiovisuels. Le colloque a pour but de comparer les différentes politiques mises en plac… @plus_info https://calenda-formation.labocleo.org/208501
LOCATION:Cesson-Sévigné
END:VEVENT
BEGIN:VEVENT
DTSTART;VALUE=DATE:20120615
DTEND;VALUE=DATE:20120616
UID:208501-20120615@calenda.revues.org
SUMMARY:Protecting and promoting online works in a European framework
URL:https://calenda-formation.labocleo.org/208501
DESCRIPTION:L’accès à des contenus attractifs\, gratuits ou payants\, devient un enjeu majeur du développement de l’Internet\, qu’il s’agisse d’écrits\, d’images ou de contenus audiovisuels. Le colloque a pour but de comparer les différentes politiques mises en plac… @plus_info https://calenda-formation.labocleo.org/208501
LOCATION:Cesson-Sévigné
END:VEVENT
END:VCALENDAR
