BEGIN:VCALENDAR
VERSION:2.0
PRODID:-//https://calenda-formation.labocleo.org
X-WR-CALNAME:Calenda
X-WR-TIMEZONE:Europe/Paris
CALSCALE:GREGORIAN
X-WR-CALDESC:Le calendrier des lettres et sciences humaines et sociales
METHOD:PUBLISH
BEGIN:VEVENT
DTSTART;VALUE=DATE:20120521
DTEND;VALUE=DATE:20120522
UID:208521-20120521@calenda.revues.org
SUMMARY:Grammar and genre: interfaces and influences
URL:https://calenda-formation.labocleo.org/208521
DESCRIPTION:This symposium aims to study the interfaces between grammar and genre: the purpose is to investigate how genre affects grammatical choices. How are genre distinctions reflected in grammar\, be it for example literary vs. media genres\, or distinctions … @plus_info https://calenda-formation.labocleo.org/208521
LOCATION:Turku
END:VEVENT
END:VCALENDAR
