BEGIN:VCALENDAR
VERSION:2.0
PRODID:-//https://calenda-formation.labocleo.org
X-WR-CALNAME:Calenda
X-WR-TIMEZONE:Europe/Paris
CALSCALE:GREGORIAN
X-WR-CALDESC:Le calendrier des lettres et sciences humaines et sociales
METHOD:PUBLISH
BEGIN:VEVENT
DTSTART;VALUE=DATE:20120603
DTEND;VALUE=DATE:20120604
UID:208528-20120603@calenda.revues.org
SUMMARY:Recrutement d'enseignants pour les Collèges universitaires français de Russie
URL:https://calenda-formation.labocleo.org/208528
DESCRIPTION:Le Ministère de l’enseignement supérieur et de la recherche\, en partenariat avec des établissements d’enseignement supérieur français\, recrute des enseignants assistants en droit\, histoire\, littérature\, sociologie et philosophie pour les Collèges uni… Más informaciones https://calenda-formation.labocleo.org/208528
LOCATION:
END:VEVENT
END:VCALENDAR
