BEGIN:VCALENDAR
VERSION:2.0
PRODID:-//https://calenda-formation.labocleo.org
X-WR-CALNAME:Calenda
X-WR-TIMEZONE:Europe/Paris
CALSCALE:GREGORIAN
X-WR-CALDESC:Le calendrier des lettres et sciences humaines et sociales
METHOD:PUBLISH
BEGIN:VEVENT
DTSTART;VALUE=DATE:20120524
DTEND;VALUE=DATE:20120525
UID:208562-20120524@calenda.revues.org
SUMMARY:Dispositifs transmédiatiques\, convergences et constructions des publics
URL:https://calenda-formation.labocleo.org/208562
DESCRIPTION:Dans la continuité du précédent colloque sur « Les dispositifs de médiation : théories\, méthodes et enjeux » (Aghababaie\, Bonjour\, Clerc\, Rauscher\, 2010)\, organisé les 19 et 20 novembre 2009\, l’association des jeunes chercheurs du Centre de recherche… @plus_info https://calenda-formation.labocleo.org/208562
LOCATION:Metz
END:VEVENT
BEGIN:VEVENT
DTSTART;VALUE=DATE:20120525
DTEND;VALUE=DATE:20120526
UID:208562-20120525@calenda.revues.org
SUMMARY:Dispositifs transmédiatiques\, convergences et constructions des publics
URL:https://calenda-formation.labocleo.org/208562
DESCRIPTION:Dans la continuité du précédent colloque sur « Les dispositifs de médiation : théories\, méthodes et enjeux » (Aghababaie\, Bonjour\, Clerc\, Rauscher\, 2010)\, organisé les 19 et 20 novembre 2009\, l’association des jeunes chercheurs du Centre de recherche… @plus_info https://calenda-formation.labocleo.org/208562
LOCATION:Metz
END:VEVENT
END:VCALENDAR
