BEGIN:VCALENDAR
VERSION:2.0
PRODID:-//https://calenda-formation.labocleo.org
X-WR-CALNAME:Calenda
X-WR-TIMEZONE:Europe/Paris
CALSCALE:GREGORIAN
X-WR-CALDESC:O calendário de letras e de ciências sociais e humanas
METHOD:PUBLISH
BEGIN:VEVENT
DTSTART;VALUE=DATE:20120605
DTEND;VALUE=DATE:20120606
UID:208610-20120605@calenda.revues.org
SUMMARY:Une ville à la mesure de la capitale (moyen âge et époque moderne)
URL:https://calenda-formation.labocleo.org/208610
DESCRIPTION:Après la première des Rencontres d'histoire de Paris du 31 mai 2010 qui sous le titre "Paris\, terrain d'histoires" avait proposé un bilan de l'historiographie récente du Paris médiéval et moderne\, l'objectif de cette journée d'étude est de prendre la… @plus_info https://calenda-formation.labocleo.org/208610
LOCATION:Paris
END:VEVENT
END:VCALENDAR
