BEGIN:VCALENDAR
VERSION:2.0
PRODID:-//https://calenda-formation.labocleo.org
X-WR-CALNAME:Calenda
X-WR-TIMEZONE:Europe/Paris
CALSCALE:GREGORIAN
X-WR-CALDESC:Le calendrier des lettres et sciences humaines et sociales
METHOD:PUBLISH
BEGIN:VEVENT
DTSTART;VALUE=DATE:20120621
DTEND;VALUE=DATE:20120622
UID:208616-20120621@calenda.revues.org
SUMMARY:L'État tiers en droit de l'Union européenne 
URL:https://calenda-formation.labocleo.org/208616
DESCRIPTION:Le Centre de recherches européennes de Rennes (CEDRE- IODE\, UMR CNRS 6262)\, le Centre d'excellence Jean Monnet de Rennes et la CEDECE organisent\, à Rennes\, le colloque annuel de la CEDECE sur le thème « L'État tiers en droit de l'Union européenne ». … @plus_info https://calenda-formation.labocleo.org/208616
LOCATION:Rennes
END:VEVENT
BEGIN:VEVENT
DTSTART;VALUE=DATE:20120622
DTEND;VALUE=DATE:20120623
UID:208616-20120622@calenda.revues.org
SUMMARY:L'État tiers en droit de l'Union européenne 
URL:https://calenda-formation.labocleo.org/208616
DESCRIPTION:Le Centre de recherches européennes de Rennes (CEDRE- IODE\, UMR CNRS 6262)\, le Centre d'excellence Jean Monnet de Rennes et la CEDECE organisent\, à Rennes\, le colloque annuel de la CEDECE sur le thème « L'État tiers en droit de l'Union européenne ». … @plus_info https://calenda-formation.labocleo.org/208616
LOCATION:Rennes
END:VEVENT
END:VCALENDAR
