BEGIN:VCALENDAR
VERSION:2.0
PRODID:-//https://calenda-formation.labocleo.org
X-WR-CALNAME:Calenda
X-WR-TIMEZONE:Europe/Paris
CALSCALE:GREGORIAN
X-WR-CALDESC:The calendar for arts, humanities and social sciences
METHOD:PUBLISH
BEGIN:VEVENT
DTSTART;VALUE=DATE:20120615
DTEND;VALUE=DATE:20120616
UID:208623-20120615@calenda.revues.org
SUMMARY:The implementation of constitutionalism among the Amazigh in Morocco: challenges and perspectives
URL:https://calenda-formation.labocleo.org/208623
DESCRIPTION:L’idée directrice qui sous tend ce colloque est de mener une réflexion relative aux voies à suivre et aux approches à mener en vue de réussir la mise en oeuvre de la constitutionalisation de la langue amazighe au Maroc. L’objectif étant de sortir ave… @plus_info https://calenda-formation.labocleo.org/208623
LOCATION:Agadir
END:VEVENT
END:VCALENDAR
