BEGIN:VCALENDAR
VERSION:2.0
PRODID:-//https://calenda-formation.labocleo.org
X-WR-CALNAME:Calenda
X-WR-TIMEZONE:Europe/Paris
CALSCALE:GREGORIAN
X-WR-CALDESC:Le calendrier des lettres et sciences humaines et sociales
METHOD:PUBLISH
BEGIN:VEVENT
DTSTART;VALUE=DATE:20120611
DTEND;VALUE=DATE:20120612
UID:208630-20120611@calenda.revues.org
SUMMARY:Les moteurs de recommandation
URL:https://calenda-formation.labocleo.org/208630
DESCRIPTION:Quel est l’historique des moteurs de recommandation ? Quels sont ses impacts sur les habitudes des usagers de l’information ? Qui sont les acteurs scientifiques et commerciaux les plus impliqués ? Quels sont les méthodes et modèles les plus efficient… @plus_info https://calenda-formation.labocleo.org/208630
LOCATION:Paris
END:VEVENT
END:VCALENDAR
