BEGIN:VCALENDAR
VERSION:2.0
PRODID:-//https://calenda-formation.labocleo.org
X-WR-CALNAME:Calenda
X-WR-TIMEZONE:Europe/Paris
CALSCALE:GREGORIAN
X-WR-CALDESC:Le calendrier des lettres et sciences humaines et sociales
METHOD:PUBLISH
BEGIN:VEVENT
DTSTART;VALUE=DATE:20120606
DTEND;VALUE=DATE:20120607
UID:208660-20120606@calenda.revues.org
SUMMARY:Les colonies II
URL:https://calenda-formation.labocleo.org/208660
DESCRIPTION:Lors d’un précédent colloque\, organisé à Poitiers les 2 et 3 septembre 2010\, une première série de pistes scientifiques avait été mise en évidence concernant différentes situations coloniales antérieurement à la Révolution\, de l’Antiquité au XVIIIe s… Weitere Informationen https://calenda-formation.labocleo.org/208660
LOCATION:Poitiers
END:VEVENT
BEGIN:VEVENT
DTSTART;VALUE=DATE:20120607
DTEND;VALUE=DATE:20120608
UID:208660-20120607@calenda.revues.org
SUMMARY:Les colonies II
URL:https://calenda-formation.labocleo.org/208660
DESCRIPTION:Lors d’un précédent colloque\, organisé à Poitiers les 2 et 3 septembre 2010\, une première série de pistes scientifiques avait été mise en évidence concernant différentes situations coloniales antérieurement à la Révolution\, de l’Antiquité au XVIIIe s… Weitere Informationen https://calenda-formation.labocleo.org/208660
LOCATION:Poitiers
END:VEVENT
END:VCALENDAR
