BEGIN:VCALENDAR
VERSION:2.0
PRODID:-//https://calenda-formation.labocleo.org
X-WR-CALNAME:Calenda
X-WR-TIMEZONE:Europe/Paris
CALSCALE:GREGORIAN
X-WR-CALDESC:O calendário de letras e de ciências sociais e humanas
METHOD:PUBLISH
BEGIN:VEVENT
DTSTART;VALUE=DATE:20120607
DTEND;VALUE=DATE:20120608
UID:208694-20120607@calenda.revues.org
SUMMARY:Ingénierie écologique : action par et/ou pour le vivant ?
URL:https://calenda-formation.labocleo.org/208694
DESCRIPTION:L’ingénierie écologique est aujourd’hui une thématique en plein essor. À la fois reconnue comme une discipline scientifique et comme un domaine de pratique\, d’expérience et de réglementation\, elle suscite un intérêt croissant tant dans le monde de la… @plus_info https://calenda-formation.labocleo.org/208694
LOCATION:Annecy
END:VEVENT
BEGIN:VEVENT
DTSTART;VALUE=DATE:20120605
DTEND;VALUE=DATE:20120606
UID:208694-20120605@calenda.revues.org
SUMMARY:Ingénierie écologique : action par et/ou pour le vivant ?
URL:https://calenda-formation.labocleo.org/208694
DESCRIPTION:L’ingénierie écologique est aujourd’hui une thématique en plein essor. À la fois reconnue comme une discipline scientifique et comme un domaine de pratique\, d’expérience et de réglementation\, elle suscite un intérêt croissant tant dans le monde de la… @plus_info https://calenda-formation.labocleo.org/208694
LOCATION:Annecy
END:VEVENT
BEGIN:VEVENT
DTSTART;VALUE=DATE:20120606
DTEND;VALUE=DATE:20120607
UID:208694-20120606@calenda.revues.org
SUMMARY:Ingénierie écologique : action par et/ou pour le vivant ?
URL:https://calenda-formation.labocleo.org/208694
DESCRIPTION:L’ingénierie écologique est aujourd’hui une thématique en plein essor. À la fois reconnue comme une discipline scientifique et comme un domaine de pratique\, d’expérience et de réglementation\, elle suscite un intérêt croissant tant dans le monde de la… @plus_info https://calenda-formation.labocleo.org/208694
LOCATION:Annecy
END:VEVENT
END:VCALENDAR
