BEGIN:VCALENDAR
VERSION:2.0
PRODID:-//https://calenda-formation.labocleo.org
X-WR-CALNAME:Calenda
X-WR-TIMEZONE:Europe/Paris
CALSCALE:GREGORIAN
X-WR-CALDESC:Le calendrier des lettres et sciences humaines et sociales
METHOD:PUBLISH
BEGIN:VEVENT
DTSTART;VALUE=DATE:20120614
DTEND;VALUE=DATE:20120615
UID:208708-20120614@calenda.revues.org
SUMMARY:Science et conscience de la société
URL:https://calenda-formation.labocleo.org/208708
DESCRIPTION:« Science et conscience de la société » est le titre de l’article de Raymond Aron publié dans le premier numéro des Archives Européennes de Sociologie en 1960. Il s’interroge sur la fonction sociale de la sociologie et\, en partant des recherches sur … Weitere Informationen https://calenda-formation.labocleo.org/208708
LOCATION:Paris
END:VEVENT
END:VCALENDAR
