BEGIN:VCALENDAR
VERSION:2.0
PRODID:-//https://calenda-formation.labocleo.org
X-WR-CALNAME:Calenda
X-WR-TIMEZONE:Europe/Paris
CALSCALE:GREGORIAN
X-WR-CALDESC:O calendário de letras e de ciências sociais e humanas
METHOD:PUBLISH
BEGIN:VEVENT
DTSTART;VALUE=DATE:20120618
DTEND;VALUE=DATE:20120619
UID:208724-20120618@calenda.revues.org
SUMMARY:Droit et gouvernance des administrations à l'ère du numérique
URL:https://calenda-formation.labocleo.org/208724
DESCRIPTION:IMODEV et l’Université Paris 1 Panthéon-Sorbonne organisent en partenariat avec la DILA\, un colloque international portant sur « le droit et la gouvernance des administrations à l’ère du numérique ». Placé sous le haut patronage de Jacques Godfrain\, … @plus_info https://calenda-formation.labocleo.org/208724
LOCATION:Paris
END:VEVENT
BEGIN:VEVENT
DTSTART;VALUE=DATE:20120619
DTEND;VALUE=DATE:20120620
UID:208724-20120619@calenda.revues.org
SUMMARY:Droit et gouvernance des administrations à l'ère du numérique
URL:https://calenda-formation.labocleo.org/208724
DESCRIPTION:IMODEV et l’Université Paris 1 Panthéon-Sorbonne organisent en partenariat avec la DILA\, un colloque international portant sur « le droit et la gouvernance des administrations à l’ère du numérique ». Placé sous le haut patronage de Jacques Godfrain\, … @plus_info https://calenda-formation.labocleo.org/208724
LOCATION:Paris
END:VEVENT
END:VCALENDAR
