BEGIN:VCALENDAR
VERSION:2.0
PRODID:-//https://calenda-formation.labocleo.org
X-WR-CALNAME:Calenda
X-WR-TIMEZONE:Europe/Paris
CALSCALE:GREGORIAN
X-WR-CALDESC:The calendar for arts, humanities and social sciences
METHOD:PUBLISH
BEGIN:VEVENT
DTSTART;VALUE=DATE:20120530
DTEND;VALUE=DATE:20120531
UID:208738-20120530@calenda.revues.org
SUMMARY:Translating and Writing Indic Learning in Persian
URL:https://calenda-formation.labocleo.org/208738
DESCRIPTION:Ce colloque international vise à offrir une nouvelle perspective sur le rôle joué par les mouvements de traduction au sein de l’histoire intellectuelle des sociétés musulmanes. La production de textes en persan sur les traditions et les sciences des … @plus_info https://calenda-formation.labocleo.org/208738
LOCATION:Paris
END:VEVENT
BEGIN:VEVENT
DTSTART;VALUE=DATE:20120531
DTEND;VALUE=DATE:20120601
UID:208738-20120531@calenda.revues.org
SUMMARY:Translating and Writing Indic Learning in Persian
URL:https://calenda-formation.labocleo.org/208738
DESCRIPTION:Ce colloque international vise à offrir une nouvelle perspective sur le rôle joué par les mouvements de traduction au sein de l’histoire intellectuelle des sociétés musulmanes. La production de textes en persan sur les traditions et les sciences des … @plus_info https://calenda-formation.labocleo.org/208738
LOCATION:Paris
END:VEVENT
END:VCALENDAR
