BEGIN:VCALENDAR
VERSION:2.0
PRODID:-//https://calenda-formation.labocleo.org
X-WR-CALNAME:Calenda
X-WR-TIMEZONE:Europe/Paris
CALSCALE:GREGORIAN
X-WR-CALDESC:The calendar for arts, humanities and social sciences
METHOD:PUBLISH
BEGIN:VEVENT
DTSTART;VALUE=DATE:20120731
DTEND;VALUE=DATE:20120801
UID:208763-20120731@calenda.revues.org
SUMMARY:Lisbon: Art and Heritage
URL:https://calenda-formation.labocleo.org/208763
DESCRIPTION:Those interested in contributing to this issue of the Journal of Art History are invited to submit original papers. Discussion should focus on issues and problems such as: 1) New contributions to the History of the City: Architecture\, Urban Planning … @plus_info https://calenda-formation.labocleo.org/208763
LOCATION:
END:VEVENT
END:VCALENDAR
