BEGIN:VCALENDAR
VERSION:2.0
PRODID:-//https://calenda-formation.labocleo.org
X-WR-CALNAME:Calenda
X-WR-TIMEZONE:Europe/Paris
CALSCALE:GREGORIAN
X-WR-CALDESC:Le calendrier des lettres et sciences humaines et sociales
METHOD:PUBLISH
BEGIN:VEVENT
DTSTART;VALUE=DATE:20120607
DTEND;VALUE=DATE:20120608
UID:208794-20120607@calenda.revues.org
SUMMARY:Le son et la bande dessinée
URL:https://calenda-formation.labocleo.org/208794
DESCRIPTION:Quand la bande dessinée fait plus que du bruit\, elle se mêle de son et de musique. Comment la musique s’exprime-t-elle dans la bande dessinée ? Peut-on représenter le son dans une planche ? La représentation de la bande dessinée est-elle possible à l… @plus_info https://calenda-formation.labocleo.org/208794
LOCATION:Angoulême
END:VEVENT
END:VCALENDAR
