BEGIN:VCALENDAR
VERSION:2.0
PRODID:-//https://calenda-formation.labocleo.org
X-WR-CALNAME:Calenda
X-WR-TIMEZONE:Europe/Paris
CALSCALE:GREGORIAN
X-WR-CALDESC:The calendar for arts, humanities and social sciences
METHOD:PUBLISH
BEGIN:VEVENT
DTSTART;VALUE=DATE:20120704
DTEND;VALUE=DATE:20120705
UID:208859-20120704@calenda.revues.org
SUMMARY:Journée de présentation de la Bibliothèque scientifique numérique (BSN)
URL:https://calenda-formation.labocleo.org/208859
DESCRIPTION:Le réseau national des professionnels de l'Information scientifique et technique (IST) RENATIS du CNRS\, soutenu par la MRCT avec le soutien du département de la coordination et des politiques transversales du MESR\, organise une journée de communicati… @plus_info https://calenda-formation.labocleo.org/208859
LOCATION:Cachan
END:VEVENT
END:VCALENDAR
