BEGIN:VCALENDAR
VERSION:2.0
PRODID:-//https://calenda-formation.labocleo.org
X-WR-CALNAME:Calenda
X-WR-TIMEZONE:Europe/Paris
CALSCALE:GREGORIAN
X-WR-CALDESC:The calendar for arts, humanities and social sciences
METHOD:PUBLISH
BEGIN:VEVENT
DTSTART;VALUE=DATE:20120625
DTEND;VALUE=DATE:20120626
UID:208866-20120625@calenda.revues.org
SUMMARY:Doctoral grant: the social appropriation of social sciences and the production of social and territorial innovations
URL:https://calenda-formation.labocleo.org/208866
DESCRIPTION:Proposition de bourse Ared (Allocation de recherche régionale). Dans le cadre des activités de recherche notre unité de recherche (ARS EA 3149) et sous la responsabilité d'Alain Penven nous proposons une bourse Ared pour accueillir un(e) doctorant(e)… @plus_info https://calenda-formation.labocleo.org/208866
LOCATION:Brest
END:VEVENT
END:VCALENDAR
