BEGIN:VCALENDAR
VERSION:2.0
PRODID:-//https://calenda-formation.labocleo.org
X-WR-CALNAME:Calenda
X-WR-TIMEZONE:Europe/Paris
CALSCALE:GREGORIAN
X-WR-CALDESC:The calendar for arts, humanities and social sciences
METHOD:PUBLISH
BEGIN:VEVENT
DTSTART;VALUE=DATE:20120624
DTEND;VALUE=DATE:20120625
UID:208943-20120624@calenda.revues.org
SUMMARY:The Arab World in the Age of Revolutions : a Global Assessment
URL:https://calenda-formation.labocleo.org/208943
DESCRIPTION:Conférence internationale du 24 au 27 juin 2012\, coorganisée par le CEDEJ\, Sciences Po Paris\, et Kuwait Program. Un an et demi après leur déclenchement\, les révolutions arabes présentent un bilan hasardeux : en Tunisie\, en Égypte et en Libye\, où les … @plus_info https://calenda-formation.labocleo.org/208943
LOCATION:Paris
END:VEVENT
BEGIN:VEVENT
DTSTART;VALUE=DATE:20120625
DTEND;VALUE=DATE:20120626
UID:208943-20120625@calenda.revues.org
SUMMARY:The Arab World in the Age of Revolutions : a Global Assessment
URL:https://calenda-formation.labocleo.org/208943
DESCRIPTION:Conférence internationale du 24 au 27 juin 2012\, coorganisée par le CEDEJ\, Sciences Po Paris\, et Kuwait Program. Un an et demi après leur déclenchement\, les révolutions arabes présentent un bilan hasardeux : en Tunisie\, en Égypte et en Libye\, où les … @plus_info https://calenda-formation.labocleo.org/208943
LOCATION:Paris
END:VEVENT
BEGIN:VEVENT
DTSTART;VALUE=DATE:20120626
DTEND;VALUE=DATE:20120627
UID:208943-20120626@calenda.revues.org
SUMMARY:The Arab World in the Age of Revolutions : a Global Assessment
URL:https://calenda-formation.labocleo.org/208943
DESCRIPTION:Conférence internationale du 24 au 27 juin 2012\, coorganisée par le CEDEJ\, Sciences Po Paris\, et Kuwait Program. Un an et demi après leur déclenchement\, les révolutions arabes présentent un bilan hasardeux : en Tunisie\, en Égypte et en Libye\, où les … @plus_info https://calenda-formation.labocleo.org/208943
LOCATION:Paris
END:VEVENT
BEGIN:VEVENT
DTSTART;VALUE=DATE:20120627
DTEND;VALUE=DATE:20120628
UID:208943-20120627@calenda.revues.org
SUMMARY:The Arab World in the Age of Revolutions : a Global Assessment
URL:https://calenda-formation.labocleo.org/208943
DESCRIPTION:Conférence internationale du 24 au 27 juin 2012\, coorganisée par le CEDEJ\, Sciences Po Paris\, et Kuwait Program. Un an et demi après leur déclenchement\, les révolutions arabes présentent un bilan hasardeux : en Tunisie\, en Égypte et en Libye\, où les … @plus_info https://calenda-formation.labocleo.org/208943
LOCATION:Paris
END:VEVENT
END:VCALENDAR
