BEGIN:VCALENDAR
VERSION:2.0
PRODID:-//https://calenda-formation.labocleo.org
X-WR-CALNAME:Calenda
X-WR-TIMEZONE:Europe/Paris
CALSCALE:GREGORIAN
X-WR-CALDESC:The calendar for arts, humanities and social sciences
METHOD:PUBLISH
BEGIN:VEVENT
DTSTART;VALUE=DATE:20120621
DTEND;VALUE=DATE:20120622
UID:208972-20120621@calenda.revues.org
SUMMARY:7th French-German Symposium in Comparative Public European Law
URL:https://calenda-formation.labocleo.org/208972
DESCRIPTION:L'Ecole de droit de la Sorbonne\, l’Université de Strasbourg\, l’Université Albert-Ludwig de Fribourg-en-Brisgau et l’École des sciences administratives de Spire (DHV Speyer) organisent le septième séminaire franco-allemand de jeunes chercheurs en droi… @plus_info https://calenda-formation.labocleo.org/208972
LOCATION:Paris
END:VEVENT
BEGIN:VEVENT
DTSTART;VALUE=DATE:20120622
DTEND;VALUE=DATE:20120623
UID:208972-20120622@calenda.revues.org
SUMMARY:7th French-German Symposium in Comparative Public European Law
URL:https://calenda-formation.labocleo.org/208972
DESCRIPTION:L'Ecole de droit de la Sorbonne\, l’Université de Strasbourg\, l’Université Albert-Ludwig de Fribourg-en-Brisgau et l’École des sciences administratives de Spire (DHV Speyer) organisent le septième séminaire franco-allemand de jeunes chercheurs en droi… @plus_info https://calenda-formation.labocleo.org/208972
LOCATION:Paris
END:VEVENT
BEGIN:VEVENT
DTSTART;VALUE=DATE:20120623
DTEND;VALUE=DATE:20120624
UID:208972-20120623@calenda.revues.org
SUMMARY:7th French-German Symposium in Comparative Public European Law
URL:https://calenda-formation.labocleo.org/208972
DESCRIPTION:L'Ecole de droit de la Sorbonne\, l’Université de Strasbourg\, l’Université Albert-Ludwig de Fribourg-en-Brisgau et l’École des sciences administratives de Spire (DHV Speyer) organisent le septième séminaire franco-allemand de jeunes chercheurs en droi… @plus_info https://calenda-formation.labocleo.org/208972
LOCATION:Paris
END:VEVENT
END:VCALENDAR
