BEGIN:VCALENDAR
VERSION:2.0
PRODID:-//https://calenda-formation.labocleo.org
X-WR-CALNAME:Calenda
X-WR-TIMEZONE:Europe/Paris
CALSCALE:GREGORIAN
X-WR-CALDESC:Le calendrier des lettres et sciences humaines et sociales
METHOD:PUBLISH
BEGIN:VEVENT
DTSTART;VALUE=DATE:20120614
DTEND;VALUE=DATE:20120615
UID:208975-20120614@calenda.revues.org
SUMMARY:Anthropologie politique : actualité d’auteurs « classiques »
URL:https://calenda-formation.labocleo.org/208975
DESCRIPTION:L’anthropologie politique est inséparable de certains travaux et de personnalités désormais considérés comme des « classiques » ayant apporté une contribution décisive au corps théorique de ce champ de recherches. Les bouleversements politiques récen… @plus_info https://calenda-formation.labocleo.org/208975
LOCATION:Paris
END:VEVENT
END:VCALENDAR
