BEGIN:VCALENDAR
VERSION:2.0
PRODID:-//https://calenda-formation.labocleo.org
X-WR-CALNAME:Calenda
X-WR-TIMEZONE:Europe/Paris
CALSCALE:GREGORIAN
X-WR-CALDESC:Le calendrier des lettres et sciences humaines et sociales
METHOD:PUBLISH
BEGIN:VEVENT
DTSTART;VALUE=DATE:20120619
DTEND;VALUE=DATE:20120620
UID:208978-20120619@calenda.revues.org
SUMMARY:Les institutions d'enfermement à l'épreuve du droit et des droits
URL:https://calenda-formation.labocleo.org/208978
DESCRIPTION:La question des usages du droit en prison s’est depuis quelques années constituée en objet de recherche au sein de la sociologie carcérale qu’il s’agisse d’évaluer les effets du développement des droits des détenus dans le fonctionnement de l’institu… @plus_info https://calenda-formation.labocleo.org/208978
LOCATION:Cachan
END:VEVENT
END:VCALENDAR
