BEGIN:VCALENDAR
VERSION:2.0
PRODID:-//https://calenda-formation.labocleo.org
X-WR-CALNAME:Calenda
X-WR-TIMEZONE:Europe/Paris
CALSCALE:GREGORIAN
X-WR-CALDESC:The calendar for arts, humanities and social sciences
METHOD:PUBLISH
BEGIN:VEVENT
DTSTART;VALUE=DATE:20120620
DTEND;VALUE=DATE:20120621
UID:208984-20120620@calenda.revues.org
SUMMARY:Interest groups and local government
URL:https://calenda-formation.labocleo.org/208984
DESCRIPTION:Colloque « Groupes d'intérêt et gouvernement local »\, 20-21 juin 2012 à Nice… @plus_info https://calenda-formation.labocleo.org/208984
LOCATION:Nice
END:VEVENT
BEGIN:VEVENT
DTSTART;VALUE=DATE:20120621
DTEND;VALUE=DATE:20120622
UID:208984-20120621@calenda.revues.org
SUMMARY:Interest groups and local government
URL:https://calenda-formation.labocleo.org/208984
DESCRIPTION:Colloque « Groupes d'intérêt et gouvernement local »\, 20-21 juin 2012 à Nice… @plus_info https://calenda-formation.labocleo.org/208984
LOCATION:Nice
END:VEVENT
END:VCALENDAR
