BEGIN:VCALENDAR
VERSION:2.0
PRODID:-//https://calenda-formation.labocleo.org
X-WR-CALNAME:Calenda
X-WR-TIMEZONE:Europe/Paris
CALSCALE:GREGORIAN
X-WR-CALDESC:Le calendrier des lettres et sciences humaines et sociales
METHOD:PUBLISH
BEGIN:VEVENT
DTSTART;VALUE=DATE:20121230
DTEND;VALUE=DATE:20121231
UID:209161-20121230@calenda.revues.org
SUMMARY:Familles mixtes et pratiques plurilingues
URL:https://calenda-formation.labocleo.org/209161
DESCRIPTION:Le présent appel à contribution vise à susciter l’analyse du plurilinguisme dans les familles mixtes\, soit en rendant compte de résultats inédits\, soit en reprenant des analyses existantes pour traiter plus spécifiquement de la pratique et de l… Weitere Informationen https://calenda-formation.labocleo.org/209161
LOCATION:
END:VEVENT
END:VCALENDAR
