BEGIN:VCALENDAR
VERSION:2.0
PRODID:-//https://calenda-formation.labocleo.org
X-WR-CALNAME:Calenda
X-WR-TIMEZONE:Europe/Paris
CALSCALE:GREGORIAN
X-WR-CALDESC:Le calendrier des lettres et sciences humaines et sociales
METHOD:PUBLISH
BEGIN:VEVENT
DTSTART;VALUE=DATE:20120905
DTEND;VALUE=DATE:20120906
UID:209209-20120905@calenda.revues.org
SUMMARY:Armed Forces in times of Decolonisation (1940-1975)
URL:https://calenda-formation.labocleo.org/209209
DESCRIPTION:Cet atelier\, consacré à l’étude des forces armées européennes entre 1940 et 1975\, entend s’inscrire dans le mouvement de renouvellement des problématiques qu'a connue l’histoire militaire dans le monde anglo-saxon\, puis plus récemment en Europe conti… Weitere Informationen https://calenda-formation.labocleo.org/209209
LOCATION:Paris
END:VEVENT
END:VCALENDAR
