BEGIN:VCALENDAR
VERSION:2.0
PRODID:-//https://calenda-formation.labocleo.org
X-WR-CALNAME:Calenda
X-WR-TIMEZONE:Europe/Paris
CALSCALE:GREGORIAN
X-WR-CALDESC:The calendar for arts, humanities and social sciences
METHOD:PUBLISH
BEGIN:VEVENT
DTSTART;VALUE=DATE:20120820
DTEND;VALUE=DATE:20120821
UID:209222-20120820@calenda.revues.org
SUMMARY:Postdoctorat "Herausforderung Sozialstaat" (HU Berlin)
URL:https://calenda-formation.labocleo.org/209222
DESCRIPTION:Das Institut für Geschichtswissenschaften der Humboldt-Universität schreibt eine Postdoc-Stelle in dem Projekt „Herausforderung Sozialstaat“\, einem der drei Teilprojekte von „Saisir l'Europe - Europa als Herausforderung“\,  aus\, die zum 1. November 20… @plus_info https://calenda-formation.labocleo.org/209222
LOCATION:Berlin
END:VEVENT
END:VCALENDAR
