BEGIN:VCALENDAR
VERSION:2.0
PRODID:-//https://calenda-formation.labocleo.org
X-WR-CALNAME:Calenda
X-WR-TIMEZONE:Europe/Paris
CALSCALE:GREGORIAN
X-WR-CALDESC:The calendar for arts, humanities and social sciences
METHOD:PUBLISH
BEGIN:VEVENT
DTSTART;VALUE=DATE:20120727
DTEND;VALUE=DATE:20120728
UID:209259-20120727@calenda.revues.org
SUMMARY:Scholarship Competition for the Isig-Conference (Italian-German Historical Institute)
URL:https://calenda-formation.labocleo.org/209259
DESCRIPTION:La bourse prévoit de couvrir les frais de voyage\, jusqu'à un montant de 200 euros\, pour assister à la 54ème Semaine d'étude de l'Isig (Italienisch-Deutsches Historisches Institut / Istituto Storico Italo-Germanico) qui se tiendra à Trente en Italie\, … @plus_info https://calenda-formation.labocleo.org/209259
LOCATION:Trento
END:VEVENT
END:VCALENDAR
