BEGIN:VCALENDAR
VERSION:2.0
PRODID:-//https://calenda-formation.labocleo.org
X-WR-CALNAME:Calenda
X-WR-TIMEZONE:Europe/Paris
CALSCALE:GREGORIAN
X-WR-CALDESC:O calendário de letras e de ciências sociais e humanas
METHOD:PUBLISH
BEGIN:VEVENT
DTSTART;VALUE=DATE:20121010
DTEND;VALUE=DATE:20121011
UID:209301-20121010@calenda.revues.org
SUMMARY:La création littéraire contemporaine dans la péninsule Arabique
URL:https://calenda-formation.labocleo.org/209301
DESCRIPTION:Depuis la fin du XXe siècle\, la production littérature de la Péninsule s’est affirmée sur la scène littéraire arabe comme un acteur incontournable du devenir de la littérature arabe\, à la fois par ses écrivains\, ses structures de légitimation et l’év… @plus_info https://calenda-formation.labocleo.org/209301
LOCATION:
END:VEVENT
END:VCALENDAR
