BEGIN:VCALENDAR
VERSION:2.0
PRODID:-//https://calenda-formation.labocleo.org
X-WR-CALNAME:Calenda
X-WR-TIMEZONE:Europe/Paris
CALSCALE:GREGORIAN
X-WR-CALDESC:The calendar for arts, humanities and social sciences
METHOD:PUBLISH
BEGIN:VEVENT
DTSTART;VALUE=DATE:20131115
DTEND;VALUE=DATE:20131116
UID:209317-20131115@calenda.revues.org
SUMMARY:Raynal and the Americas
URL:https://calenda-formation.labocleo.org/209317
DESCRIPTION:Raynal et les Amériques – colloque pluridisciplinaire international\, organisé dans le cadre des manifestations du Tricentenaire de la naissance de l’abbé Guillaume-Thomas Raynal (1713-1796)\, qui se propose d’aborder le cheminement des idées d’un cont… @plus_info https://calenda-formation.labocleo.org/209317
LOCATION:Paris
END:VEVENT
END:VCALENDAR
