BEGIN:VCALENDAR
VERSION:2.0
PRODID:-//https://calenda-formation.labocleo.org
X-WR-CALNAME:Calenda
X-WR-TIMEZONE:Europe/Paris
CALSCALE:GREGORIAN
X-WR-CALDESC:O calendário de letras e de ciências sociais e humanas
METHOD:PUBLISH
BEGIN:VEVENT
DTSTART;VALUE=DATE:20120907
DTEND;VALUE=DATE:20120908
UID:209368-20120907@calenda.revues.org
SUMMARY:Le Tableau politique de la France de l'Ouest d'André Siegfried 100 ans après
URL:https://calenda-formation.labocleo.org/209368
DESCRIPTION:Le centenaire de la publication du Tableau politique en 2013 est l’occasion d’opérer un retour fructueux sur cet ouvrage présenté comme fondateur par la science politique française et la géographie électorale. En croisant les regards de la géographie… @plus_info https://calenda-formation.labocleo.org/209368
LOCATION:
END:VEVENT
END:VCALENDAR
