BEGIN:VCALENDAR
VERSION:2.0
PRODID:-//https://calenda-formation.labocleo.org
X-WR-CALNAME:Calenda
X-WR-TIMEZONE:Europe/Paris
CALSCALE:GREGORIAN
X-WR-CALDESC:Le calendrier des lettres et sciences humaines et sociales
METHOD:PUBLISH
BEGIN:VEVENT
DTSTART;VALUE=DATE:20120820
DTEND;VALUE=DATE:20120821
UID:209377-20120820@calenda.revues.org
SUMMARY:L’Université algérienne et les langues vivantes
URL:https://calenda-formation.labocleo.org/209377
DESCRIPTION:Ce colloque international\, qui s’inscrit dans la célébration du cinquantenaire de l’indépendance de l’Algérie\, se propose aux fins d’un bilan sur l’insertion des langues vivantes au sein de l’université et dans le système éducatif pendant cinquante a… @plus_info https://calenda-formation.labocleo.org/209377
LOCATION:Alger
END:VEVENT
END:VCALENDAR
