BEGIN:VCALENDAR
VERSION:2.0
PRODID:-//https://calenda-formation.labocleo.org
X-WR-CALNAME:Calenda
X-WR-TIMEZONE:Europe/Paris
CALSCALE:GREGORIAN
X-WR-CALDESC:Le calendrier des lettres et sciences humaines et sociales
METHOD:PUBLISH
BEGIN:VEVENT
DTSTART;VALUE=DATE:20121124
DTEND;VALUE=DATE:20121125
UID:209379-20121124@calenda.revues.org
SUMMARY:Sexualité infantile\, tabou or not tabou ?
URL:https://calenda-formation.labocleo.org/209379
DESCRIPTION:Le Réseau pour la psychanalyse à l’hôpital (RPH) vous propose un pont entre la théorie et la clinique\, en vous faisant partager le questionnement de ses praticiens\, engagés dans une interrogation de la psychanalyse par la clinique. Nous vous donnons … Más informaciones https://calenda-formation.labocleo.org/209379
LOCATION:París
END:VEVENT
END:VCALENDAR
