BEGIN:VCALENDAR
VERSION:2.0
PRODID:-//https://calenda-formation.labocleo.org
X-WR-CALNAME:Calenda
X-WR-TIMEZONE:Europe/Paris
CALSCALE:GREGORIAN
X-WR-CALDESC:Le calendrier des lettres et sciences humaines et sociales
METHOD:PUBLISH
BEGIN:VEVENT
DTSTART;VALUE=DATE:20120915
DTEND;VALUE=DATE:20120916
UID:209436-20120915@calenda.revues.org
SUMMARY:Étude des processus créatifs\, observation de la collaboration entre designers et physiciens
URL:https://calenda-formation.labocleo.org/209436
DESCRIPTION:Paris Design Lab (équipe de recherche de l’ENSCI-Les Ateliers ) offre un contrat de post-doctorat d’un an pour une étude des processus d’innovation et de création\, impliquant le design\, au sein d’un laboratoire de physique.… Más informaciones https://calenda-formation.labocleo.org/209436
LOCATION:París
END:VEVENT
END:VCALENDAR
