BEGIN:VCALENDAR
VERSION:2.0
PRODID:-//https://calenda-formation.labocleo.org
X-WR-CALNAME:Calenda
X-WR-TIMEZONE:Europe/Paris
CALSCALE:GREGORIAN
X-WR-CALDESC:The calendar for arts, humanities and social sciences
METHOD:PUBLISH
BEGIN:VEVENT
DTSTART;VALUE=DATE:20121001
DTEND;VALUE=DATE:20121002
UID:209450-20121001@calenda.revues.org
SUMMARY:"Different modes of commitment"
URL:https://calenda-formation.labocleo.org/209450
DESCRIPTION:Face aux mutations du monde contemporain\, les formes dites traditionnelles de l’engagement ne sont plus perçues comme des voies évidentes pour s’investir publiquement sur des questions sociales ou politiques. L’abstention\, la volatilité électorale\, l… @plus_info https://calenda-formation.labocleo.org/209450
LOCATION:Bordeaux
END:VEVENT
END:VCALENDAR
