BEGIN:VCALENDAR
VERSION:2.0
PRODID:-//https://calenda-formation.labocleo.org
X-WR-CALNAME:Calenda
X-WR-TIMEZONE:Europe/Paris
CALSCALE:GREGORIAN
X-WR-CALDESC:The calendar for arts, humanities and social sciences
METHOD:PUBLISH
BEGIN:VEVENT
DTSTART;VALUE=DATE:20120930
DTEND;VALUE=DATE:20121001
UID:209468-20120930@calenda.revues.org
SUMMARY:Voix ivoiriennes
URL:https://calenda-formation.labocleo.org/209468
DESCRIPTION:La Côte d’Ivoire\, avec ces 26% de population étrangère apparaît aujourd’hui comme un grand État d’immigration. Elle tire cet état de fait de son histoire récente. En effet\, colonie dès 1893\, la Côte d’Ivoire\, vue ses potentialités économiques\, sera o… @plus_info https://calenda-formation.labocleo.org/209468
LOCATION:
END:VEVENT
END:VCALENDAR
