BEGIN:VCALENDAR
VERSION:2.0
PRODID:-//https://calenda-formation.labocleo.org
X-WR-CALNAME:Calenda
X-WR-TIMEZONE:Europe/Paris
CALSCALE:GREGORIAN
X-WR-CALDESC:Le calendrier des lettres et sciences humaines et sociales
METHOD:PUBLISH
BEGIN:VEVENT
DTSTART;VALUE=DATE:20120912
DTEND;VALUE=DATE:20120913
UID:209519-20120912@calenda.revues.org
SUMMARY:Les cadavres et leur destruction
URL:https://calenda-formation.labocleo.org/209519
DESCRIPTION:This workshop addresses the first phase of the research programme “Corpses of mass violence and genocide”. In the context of mass violence and genocide\, death is not the end of the executors’ work. After the abuses\, the victims’ corpses are treated a… Más informaciones https://calenda-formation.labocleo.org/209519
LOCATION:París
END:VEVENT
BEGIN:VEVENT
DTSTART;VALUE=DATE:20120913
DTEND;VALUE=DATE:20120914
UID:209519-20120913@calenda.revues.org
SUMMARY:Les cadavres et leur destruction
URL:https://calenda-formation.labocleo.org/209519
DESCRIPTION:This workshop addresses the first phase of the research programme “Corpses of mass violence and genocide”. In the context of mass violence and genocide\, death is not the end of the executors’ work. After the abuses\, the victims’ corpses are treated a… Más informaciones https://calenda-formation.labocleo.org/209519
LOCATION:París
END:VEVENT
BEGIN:VEVENT
DTSTART;VALUE=DATE:20120914
DTEND;VALUE=DATE:20120915
UID:209519-20120914@calenda.revues.org
SUMMARY:Les cadavres et leur destruction
URL:https://calenda-formation.labocleo.org/209519
DESCRIPTION:This workshop addresses the first phase of the research programme “Corpses of mass violence and genocide”. In the context of mass violence and genocide\, death is not the end of the executors’ work. After the abuses\, the victims’ corpses are treated a… Más informaciones https://calenda-formation.labocleo.org/209519
LOCATION:París
END:VEVENT
END:VCALENDAR
