BEGIN:VCALENDAR
VERSION:2.0
PRODID:-//https://calenda-formation.labocleo.org
X-WR-CALNAME:Calenda
X-WR-TIMEZONE:Europe/Paris
CALSCALE:GREGORIAN
X-WR-CALDESC:Le calendrier des lettres et sciences humaines et sociales
METHOD:PUBLISH
BEGIN:VEVENT
DTSTART;VALUE=DATE:20120921
DTEND;VALUE=DATE:20120922
UID:209523-20120921@calenda.revues.org
SUMMARY:La morale de l'homme politique dans la France du XIXe siècle
URL:https://calenda-formation.labocleo.org/209523
DESCRIPTION:Question parmi les plus débattues de l'histoire de la philosophie\, celle des rapports entre la morale et la politique\, cesse d’être un simple problème spéculatif\, et prend une dimension nettement pratique à partir du moment où l'on s'interroge sur la… Weitere Informationen https://calenda-formation.labocleo.org/209523
LOCATION:Paris
END:VEVENT
END:VCALENDAR
