BEGIN:VCALENDAR
VERSION:2.0
PRODID:-//https://calenda-formation.labocleo.org
X-WR-CALNAME:Calenda
X-WR-TIMEZONE:Europe/Paris
CALSCALE:GREGORIAN
X-WR-CALDESC:Le calendrier des lettres et sciences humaines et sociales
METHOD:PUBLISH
BEGIN:VEVENT
DTSTART;VALUE=DATE:20121015
DTEND;VALUE=DATE:20121016
UID:209551-20121015@calenda.revues.org
SUMMARY:Éducation et identités : perspectives historiques
URL:https://calenda-formation.labocleo.org/209551
DESCRIPTION:Née en 2011\, l’Association transdisciplinaire de recherches historiques en éducation a pour finalité la promotion des études historiques sur l’éducation. Pour son premier colloque\, l’association propose une thématique volontairement vaste\, susceptibl… Weitere Informationen https://calenda-formation.labocleo.org/209551
LOCATION:Gennevilliers
END:VEVENT
END:VCALENDAR
