BEGIN:VCALENDAR
VERSION:2.0
PRODID:-//https://calenda-formation.labocleo.org
X-WR-CALNAME:Calenda
X-WR-TIMEZONE:Europe/Paris
CALSCALE:GREGORIAN
X-WR-CALDESC:Le calendrier des lettres et sciences humaines et sociales
METHOD:PUBLISH
BEGIN:VEVENT
DTSTART;VALUE=DATE:20120913
DTEND;VALUE=DATE:20120914
UID:209602-20120913@calenda.revues.org
SUMMARY:Imaginaires de la mobilité\, imaginaires de l'immobilité
URL:https://calenda-formation.labocleo.org/209602
DESCRIPTION:Cette dernière décennie\, l’Europe a été inondée d’images montrant les migrants africains prenant des risques extrêmes pour pénétrer la forteresse Europe sans que les représentations binaires de l’altérité ne soient véritablement transformées. On peut… Weitere Informationen https://calenda-formation.labocleo.org/209602
LOCATION:Marseille
END:VEVENT
END:VCALENDAR
