BEGIN:VCALENDAR
VERSION:2.0
PRODID:-//https://calenda-formation.labocleo.org
X-WR-CALNAME:Calenda
X-WR-TIMEZONE:Europe/Paris
CALSCALE:GREGORIAN
X-WR-CALDESC:The calendar for arts, humanities and social sciences
METHOD:PUBLISH
BEGIN:VEVENT
DTSTART;VALUE=DATE:20121214
DTEND;VALUE=DATE:20121215
UID:209661-20121214@calenda.revues.org
SUMMARY:Jansenisms: representations and influences (France-Austria\, 1740-1790)
URL:https://calenda-formation.labocleo.org/209661
DESCRIPTION:La Champagne\, terre janséniste ? Les deux jours d’échanges qui se tiendront à l’université de Reims approfondiront cette question. À partir des documents issus de l’Oratoire de Troyes\, important foyer janséniste champenois\, le premier volet de cette … @plus_info https://calenda-formation.labocleo.org/209661
LOCATION:Reims
END:VEVENT
BEGIN:VEVENT
DTSTART;VALUE=DATE:20121215
DTEND;VALUE=DATE:20121216
UID:209661-20121215@calenda.revues.org
SUMMARY:Jansenisms: representations and influences (France-Austria\, 1740-1790)
URL:https://calenda-formation.labocleo.org/209661
DESCRIPTION:La Champagne\, terre janséniste ? Les deux jours d’échanges qui se tiendront à l’université de Reims approfondiront cette question. À partir des documents issus de l’Oratoire de Troyes\, important foyer janséniste champenois\, le premier volet de cette … @plus_info https://calenda-formation.labocleo.org/209661
LOCATION:Reims
END:VEVENT
END:VCALENDAR
