BEGIN:VCALENDAR
VERSION:2.0
PRODID:-//https://calenda-formation.labocleo.org
X-WR-CALNAME:Calenda
X-WR-TIMEZONE:Europe/Paris
CALSCALE:GREGORIAN
X-WR-CALDESC:The calendar for arts, humanities and social sciences
METHOD:PUBLISH
BEGIN:VEVENT
DTSTART;VALUE=DATE:20120927
DTEND;VALUE=DATE:20120928
UID:220068-20120927@calenda.revues.org
SUMMARY:Barrières et défis interculturels et linguistiques dans la communication médiatique transfrontalière
URL:https://calenda-formation.labocleo.org/220068
DESCRIPTION:Alors que l’Union européenne connaît un processus constant d’intégration\, il n’existe pas encore d’espace public médiatique au niveau continental. La « Grande Région » (Saarland - Lorraine - Luxembourg - Rhénanie-Palatinat – Wallonie) est un territoi… @plus_info https://calenda-formation.labocleo.org/220068
LOCATION:Saarbrücken
END:VEVENT
END:VCALENDAR
