BEGIN:VCALENDAR
VERSION:2.0
PRODID:-//https://calenda-formation.labocleo.org
X-WR-CALNAME:Calenda
X-WR-TIMEZONE:Europe/Paris
CALSCALE:GREGORIAN
X-WR-CALDESC:O calendário de letras e de ciências sociais e humanas
METHOD:PUBLISH
BEGIN:VEVENT
DTSTART;VALUE=DATE:20120921
DTEND;VALUE=DATE:20120922
UID:220081-20120921@calenda.revues.org
SUMMARY:Théories du genre et des sexualités
URL:https://calenda-formation.labocleo.org/220081
DESCRIPTION:Organisé par l'Observatoire du sida et des sexualités en collaboration avec l'Institut de recherche société et interdisciplinarité (IRSI-FUSL)\, ce séminaire mensuel de lecture a pour objectif de s’approprier collectivement des textes théoriques fémin… @plus_info https://calenda-formation.labocleo.org/220081
LOCATION:Bruxelas
END:VEVENT
BEGIN:VEVENT
DTSTART;VALUE=DATE:20121026
DTEND;VALUE=DATE:20121027
UID:220081-20121026@calenda.revues.org
SUMMARY:Théories du genre et des sexualités
URL:https://calenda-formation.labocleo.org/220081
DESCRIPTION:Organisé par l'Observatoire du sida et des sexualités en collaboration avec l'Institut de recherche société et interdisciplinarité (IRSI-FUSL)\, ce séminaire mensuel de lecture a pour objectif de s’approprier collectivement des textes théoriques fémin… @plus_info https://calenda-formation.labocleo.org/220081
LOCATION:Bruxelas
END:VEVENT
BEGIN:VEVENT
DTSTART;VALUE=DATE:20121116
DTEND;VALUE=DATE:20121117
UID:220081-20121116@calenda.revues.org
SUMMARY:Théories du genre et des sexualités
URL:https://calenda-formation.labocleo.org/220081
DESCRIPTION:Organisé par l'Observatoire du sida et des sexualités en collaboration avec l'Institut de recherche société et interdisciplinarité (IRSI-FUSL)\, ce séminaire mensuel de lecture a pour objectif de s’approprier collectivement des textes théoriques fémin… @plus_info https://calenda-formation.labocleo.org/220081
LOCATION:Bruxelas
END:VEVENT
BEGIN:VEVENT
DTSTART;VALUE=DATE:20121221
DTEND;VALUE=DATE:20121222
UID:220081-20121221@calenda.revues.org
SUMMARY:Théories du genre et des sexualités
URL:https://calenda-formation.labocleo.org/220081
DESCRIPTION:Organisé par l'Observatoire du sida et des sexualités en collaboration avec l'Institut de recherche société et interdisciplinarité (IRSI-FUSL)\, ce séminaire mensuel de lecture a pour objectif de s’approprier collectivement des textes théoriques fémin… @plus_info https://calenda-formation.labocleo.org/220081
LOCATION:Bruxelas
END:VEVENT
BEGIN:VEVENT
DTSTART;VALUE=DATE:20130125
DTEND;VALUE=DATE:20130126
UID:220081-20130125@calenda.revues.org
SUMMARY:Théories du genre et des sexualités
URL:https://calenda-formation.labocleo.org/220081
DESCRIPTION:Organisé par l'Observatoire du sida et des sexualités en collaboration avec l'Institut de recherche société et interdisciplinarité (IRSI-FUSL)\, ce séminaire mensuel de lecture a pour objectif de s’approprier collectivement des textes théoriques fémin… @plus_info https://calenda-formation.labocleo.org/220081
LOCATION:Bruxelas
END:VEVENT
BEGIN:VEVENT
DTSTART;VALUE=DATE:20130222
DTEND;VALUE=DATE:20130223
UID:220081-20130222@calenda.revues.org
SUMMARY:Théories du genre et des sexualités
URL:https://calenda-formation.labocleo.org/220081
DESCRIPTION:Organisé par l'Observatoire du sida et des sexualités en collaboration avec l'Institut de recherche société et interdisciplinarité (IRSI-FUSL)\, ce séminaire mensuel de lecture a pour objectif de s’approprier collectivement des textes théoriques fémin… @plus_info https://calenda-formation.labocleo.org/220081
LOCATION:Bruxelas
END:VEVENT
BEGIN:VEVENT
DTSTART;VALUE=DATE:20130329
DTEND;VALUE=DATE:20130330
UID:220081-20130329@calenda.revues.org
SUMMARY:Théories du genre et des sexualités
URL:https://calenda-formation.labocleo.org/220081
DESCRIPTION:Organisé par l'Observatoire du sida et des sexualités en collaboration avec l'Institut de recherche société et interdisciplinarité (IRSI-FUSL)\, ce séminaire mensuel de lecture a pour objectif de s’approprier collectivement des textes théoriques fémin… @plus_info https://calenda-formation.labocleo.org/220081
LOCATION:Bruxelas
END:VEVENT
BEGIN:VEVENT
DTSTART;VALUE=DATE:20130426
DTEND;VALUE=DATE:20130427
UID:220081-20130426@calenda.revues.org
SUMMARY:Théories du genre et des sexualités
URL:https://calenda-formation.labocleo.org/220081
DESCRIPTION:Organisé par l'Observatoire du sida et des sexualités en collaboration avec l'Institut de recherche société et interdisciplinarité (IRSI-FUSL)\, ce séminaire mensuel de lecture a pour objectif de s’approprier collectivement des textes théoriques fémin… @plus_info https://calenda-formation.labocleo.org/220081
LOCATION:Bruxelas
END:VEVENT
BEGIN:VEVENT
DTSTART;VALUE=DATE:20130531
DTEND;VALUE=DATE:20130601
UID:220081-20130531@calenda.revues.org
SUMMARY:Théories du genre et des sexualités
URL:https://calenda-formation.labocleo.org/220081
DESCRIPTION:Organisé par l'Observatoire du sida et des sexualités en collaboration avec l'Institut de recherche société et interdisciplinarité (IRSI-FUSL)\, ce séminaire mensuel de lecture a pour objectif de s’approprier collectivement des textes théoriques fémin… @plus_info https://calenda-formation.labocleo.org/220081
LOCATION:Bruxelas
END:VEVENT
BEGIN:VEVENT
DTSTART;VALUE=DATE:20130628
DTEND;VALUE=DATE:20130629
UID:220081-20130628@calenda.revues.org
SUMMARY:Théories du genre et des sexualités
URL:https://calenda-formation.labocleo.org/220081
DESCRIPTION:Organisé par l'Observatoire du sida et des sexualités en collaboration avec l'Institut de recherche société et interdisciplinarité (IRSI-FUSL)\, ce séminaire mensuel de lecture a pour objectif de s’approprier collectivement des textes théoriques fémin… @plus_info https://calenda-formation.labocleo.org/220081
LOCATION:Bruxelas
END:VEVENT
END:VCALENDAR
