BEGIN:VCALENDAR
VERSION:2.0
PRODID:-//https://calenda-formation.labocleo.org
X-WR-CALNAME:Calenda
X-WR-TIMEZONE:Europe/Paris
CALSCALE:GREGORIAN
X-WR-CALDESC:O calendário de letras e de ciências sociais e humanas
METHOD:PUBLISH
BEGIN:VEVENT
DTSTART;VALUE=DATE:20130206
DTEND;VALUE=DATE:20130207
UID:220481-20130206@calenda.revues.org
SUMMARY:Manuels scolaires : livres du maître\, de l'élève\, des savoirs…
URL:https://calenda-formation.labocleo.org/220481
DESCRIPTION:L'édition a développé\, avec des variables selon les disciplines\, des formes de "livre de l'élève" et de "livre du maître" ou "du professeur"\, exercices\, corrigés\, images\, fiches de préparation… enfin des objets associés utilisant d'autres médias. Ces… @plus_info https://calenda-formation.labocleo.org/220481
LOCATION:Montpellier
END:VEVENT
END:VCALENDAR
