BEGIN:VCALENDAR
VERSION:2.0
PRODID:-//https://calenda-formation.labocleo.org
X-WR-CALNAME:Calenda
X-WR-TIMEZONE:Europe/Paris
CALSCALE:GREGORIAN
X-WR-CALDESC:Le calendrier des lettres et sciences humaines et sociales
METHOD:PUBLISH
BEGIN:VEVENT
DTSTART;VALUE=DATE:20121229
DTEND;VALUE=DATE:20121230
UID:220560-20121229@calenda.revues.org
SUMMARY:Comment questionner les liens entre migrations et développement dans les Afriques de l’Ouest et du Centre ?
URL:https://calenda-formation.labocleo.org/220560
DESCRIPTION:Les migrations font débat dans les sociétés de départ\, de transit et d’arrivée. Elles sont soit intimement liées à l’amélioration des conditions de vie des uns et aux profits de quelques autres\, soit aux déplacements forcés\, aux drames humains ou aux… @plus_info https://calenda-formation.labocleo.org/220560
LOCATION:Chang
END:VEVENT
END:VCALENDAR
