BEGIN:VCALENDAR
VERSION:2.0
PRODID:-//https://calenda-formation.labocleo.org
X-WR-CALNAME:Calenda
X-WR-TIMEZONE:Europe/Paris
CALSCALE:GREGORIAN
X-WR-CALDESC:O calendário de letras e de ciências sociais e humanas
METHOD:PUBLISH
BEGIN:VEVENT
DTSTART;VALUE=DATE:20121002
DTEND;VALUE=DATE:20121003
UID:220671-20121002@calenda.revues.org
SUMMARY:Corps\, communautés\, minorités
URL:https://calenda-formation.labocleo.org/220671
DESCRIPTION:L’Institut Michel Villey organise le mardi 2 octobre 2012 une journée d’étude intitulée « Corps\, communautés\, minorités »\, sous la responsabilité de François Saint-Bonnet\, professeur à l’Université Paris II Panthéon-Assas.… @plus_info https://calenda-formation.labocleo.org/220671
LOCATION:Paris
END:VEVENT
END:VCALENDAR
