BEGIN:VCALENDAR
VERSION:2.0
PRODID:-//https://calenda-formation.labocleo.org
X-WR-CALNAME:Calenda
X-WR-TIMEZONE:Europe/Paris
CALSCALE:GREGORIAN
X-WR-CALDESC:Le calendrier des lettres et sciences humaines et sociales
METHOD:PUBLISH
BEGIN:VEVENT
DTSTART;VALUE=DATE:20121231
DTEND;VALUE=DATE:20130101
UID:220835-20121231@calenda.revues.org
SUMMARY:Le mandala et le cercle dans la modernité artistique
URL:https://calenda-formation.labocleo.org/220835
DESCRIPTION:Si le mandala trouve son origine dans la tradition bouddhique\, ses figures se rencontrent dans de nombreuses cultures. Selon Carl Gustav Jung\, des diagrammes circulaires semblables aux mandalas se retrouvent dans l’art sacré des Indiens Navajos du No… Weitere Informationen https://calenda-formation.labocleo.org/220835
LOCATION:
END:VEVENT
END:VCALENDAR
