BEGIN:VCALENDAR
VERSION:2.0
PRODID:-//https://calenda-formation.labocleo.org
X-WR-CALNAME:Calenda
X-WR-TIMEZONE:Europe/Paris
CALSCALE:GREGORIAN
X-WR-CALDESC:Le calendrier des lettres et sciences humaines et sociales
METHOD:PUBLISH
BEGIN:VEVENT
DTSTART;VALUE=DATE:20121015
DTEND;VALUE=DATE:20121016
UID:220998-20121015@calenda.revues.org
SUMMARY:Les sciences sociales de l’international : penser les articulations entre théorie\, méthode et terrain
URL:https://calenda-formation.labocleo.org/220998
DESCRIPTION:Cette année marque le soixantième anniversaire du CERI\, le Centre d’études et de recherches internationales de Sciences Po. Fondé en 1952 par Jean-Baptiste Duroselle et Jean Meyriat\, ce centre de recherche s’illustre dans le paysage académique mondia… Más informaciones https://calenda-formation.labocleo.org/220998
LOCATION:París
END:VEVENT
BEGIN:VEVENT
DTSTART;VALUE=DATE:20121016
DTEND;VALUE=DATE:20121017
UID:220998-20121016@calenda.revues.org
SUMMARY:Les sciences sociales de l’international : penser les articulations entre théorie\, méthode et terrain
URL:https://calenda-formation.labocleo.org/220998
DESCRIPTION:Cette année marque le soixantième anniversaire du CERI\, le Centre d’études et de recherches internationales de Sciences Po. Fondé en 1952 par Jean-Baptiste Duroselle et Jean Meyriat\, ce centre de recherche s’illustre dans le paysage académique mondia… Más informaciones https://calenda-formation.labocleo.org/220998
LOCATION:París
END:VEVENT
END:VCALENDAR
